BEGIN:VCALENDAR
VERSION:2.0
PRODID:-//Plone.org//NONSGML plone.app.event//EN
X-WR-TIMEZONE:Europe/Vienna
BEGIN:VEVENT
SUMMARY:Kuratorinnenführung durch die Ausstellung „Höllenzeichnungen
 “
DTSTART;TZID=Europe/Vienna:20200110T163000
DTSTAMP:20260425T112951Z
UID:1dccf30d211342690e034ecb04b9a329@www.akbild.ac.at
CATEGORIES:Führungen / Veranstaltungen
CREATED:20220312T152843Z
DESCRIPTION:mit Julia M. Nauhaus\, Direktorin von Gemäldegalerie\, Kupfer
 stichkabinett und Glyptothek der Akademie der bildenden Künste Wien
LAST-MODIFIED:20240802T102420Z
URL:https://www.akbild.ac.at/de/museum-und-ausstellungen/kunstsammlungen/a
 ktuelles/kupferstichkabinett/vortrage-events/2020/kuratorinnenfuehrung-hoe
 llenzeichnungen-20200110
END:VEVENT
BEGIN:VTIMEZONE
TZID:Europe/Vienna
X-LIC-LOCATION:Europe/Vienna
BEGIN:STANDARD
DTSTART:20191027T020000
TZNAME:CET
TZOFFSETFROM:+0200
TZOFFSETTO:+0100
END:STANDARD
END:VTIMEZONE
END:VCALENDAR
