BEGIN:VCALENDAR
VERSION:2.0
PRODID:-//Plone.org//NONSGML plone.app.event//EN
X-WR-TIMEZONE:Europe/Vienna
BEGIN:VEVENT
SUMMARY:Kunst kreativ erleben - ABGESAGT
DTSTART;TZID=Europe/Vienna:20210620T130000
DTSTAMP:20260425T104620Z
UID:5a9909f6d05c0f9186f5dd572b4ae26a@www.akbild.ac.at
CATEGORIES:Führungen / Veranstaltungen
CREATED:20220312T152937Z
DESCRIPTION:mit Simonne Baur
LAST-MODIFIED:20240802T102420Z
URL:https://www.akbild.ac.at/de/museum-und-ausstellungen/kunstsammlungen/a
 ktuelles/kupferstichkabinett/vortrage-events/2021/kunst_kreativ_erleben-20
 210620
END:VEVENT
BEGIN:VTIMEZONE
TZID:Europe/Vienna
X-LIC-LOCATION:Europe/Vienna
BEGIN:DAYLIGHT
DTSTART:20210328T030000
TZNAME:CEST
TZOFFSETFROM:+0100
TZOFFSETTO:+0200
END:DAYLIGHT
END:VTIMEZONE
END:VCALENDAR
