BEGIN:VCALENDAR
VERSION:2.0
PRODID:-//Plone.org//NONSGML plone.app.event//EN
X-WR-TIMEZONE:Europe/Vienna
BEGIN:VEVENT
SUMMARY:Kunst kreativ erleben
DTSTART;TZID=Europe/Vienna:20210626T103000
DTSTAMP:20260425T104637Z
UID:f02655cd9c4caad696760c0fa998188c@www.akbild.ac.at
CATEGORIES:Führungen / Veranstaltungen
CREATED:20220312T152939Z
DESCRIPTION:mit Simonne Baur
LAST-MODIFIED:20240802T102420Z
URL:https://www.akbild.ac.at/de/museum-und-ausstellungen/kunstsammlungen/a
 ktuelles/kupferstichkabinett/vortrage-events/2021/kunst_kreativ_erleben-20
 210626
END:VEVENT
BEGIN:VTIMEZONE
TZID:Europe/Vienna
X-LIC-LOCATION:Europe/Vienna
BEGIN:DAYLIGHT
DTSTART:20210328T030000
TZNAME:CEST
TZOFFSETFROM:+0100
TZOFFSETTO:+0200
END:DAYLIGHT
END:VTIMEZONE
END:VCALENDAR
