BEGIN:VCALENDAR
VERSION:2.0
PRODID:-//Plone.org//NONSGML plone.app.event//EN
X-WR-TIMEZONE:Europe/Vienna
BEGIN:VEVENT
SUMMARY:Zeichnen ist Denken mit Stift - Unser erstes Skizzenbuch
DTSTART;TZID=Europe/Vienna:20210709T103000
DTSTAMP:20260425T125535Z
UID:9df7cf0e78c2e0957d7ac9290f0b7352@www.akbild.ac.at
CATEGORIES:Führungen / Veranstaltungen
CREATED:20220312T152952Z
DESCRIPTION:im Rahmen der KinderUniKunst
LAST-MODIFIED:20240802T102420Z
URL:https://www.akbild.ac.at/de/museum-und-ausstellungen/kunstsammlungen/a
 ktuelles/kupferstichkabinett/vortrage-events/2021/zeichnen-2021-07-09
END:VEVENT
BEGIN:VTIMEZONE
TZID:Europe/Vienna
X-LIC-LOCATION:Europe/Vienna
BEGIN:DAYLIGHT
DTSTART:20210328T030000
TZNAME:CEST
TZOFFSETFROM:+0100
TZOFFSETTO:+0200
END:DAYLIGHT
END:VTIMEZONE
END:VCALENDAR
