BEGIN:VCALENDAR
VERSION:2.0
PRODID:-//Plone.org//NONSGML plone.app.event//EN
X-WR-TIMEZONE:Europe/Vienna
BEGIN:VEVENT
SUMMARY:Meisterwerke aus dem Kupferstichkabinett
DTSTART;TZID=Europe/Vienna:20230120T150000
DTSTAMP:20260425T114803Z
UID:7f2fa02c1a474319866e848202346cfc@www.akbild.ac.at
CATEGORIES:Führungen / Veranstaltungen
CREATED:20230111T113043Z
DESCRIPTION:Das Kupferstichkabinett zeigt eine Auswahl an Zeichnungen und 
 Druckgrafiken\, die selten öffentlich zu sehen sind.
LAST-MODIFIED:20240802T102420Z
URL:https://www.akbild.ac.at/de/museum-und-ausstellungen/kunstsammlungen/a
 ktuelles/kupferstichkabinett/vortrage-events/2023/meisterwerke-aus-dem-kup
 ferstichkabinett
END:VEVENT
BEGIN:VTIMEZONE
TZID:Europe/Vienna
X-LIC-LOCATION:Europe/Vienna
BEGIN:STANDARD
DTSTART:20221030T020000
TZNAME:CET
TZOFFSETFROM:+0200
TZOFFSETTO:+0100
END:STANDARD
END:VTIMEZONE
END:VCALENDAR
