BEGIN:VCALENDAR
VERSION:2.0
PRODID:-//Plone.org//NONSGML plone.app.event//EN
X-WR-TIMEZONE:Europe/Vienna
BEGIN:VEVENT
SUMMARY:Chemtrails over the Schillerplatz
DTSTART;TZID=Europe/Vienna:20230604T140000
DTEND;TZID=Europe/Vienna:20230604T190000
DTSTAMP:20260422T101830Z
UID:047b118a008747ca8326806b36fd04e1@www.akbild.ac.at
CATEGORIES:Vorträge / Veranstaltungen
CREATED:20230510T095533Z
DESCRIPTION:Ein immersiver ParcoursDiplomarbeit in Bühnengestaltung von S
 ophie Eidenberger
LAST-MODIFIED:20240802T102247Z
URL:https://www.akbild.ac.at/de/museum-und-ausstellungen/parcours-abschlus
 sarbeiten/parcours-2023/copy2_of_chemtrails-over-the-schillerplatz
END:VEVENT
BEGIN:VTIMEZONE
TZID:Europe/Vienna
X-LIC-LOCATION:Europe/Vienna
BEGIN:DAYLIGHT
DTSTART:20230326T030000
TZNAME:CEST
TZOFFSETFROM:+0100
TZOFFSETTO:+0200
END:DAYLIGHT
END:VTIMEZONE
END:VCALENDAR
