BEGIN:VCALENDAR
VERSION:2.0
PRODID:-//Plone.org//NONSGML plone.app.event//EN
X-WR-TIMEZONE:Europe/Vienna
BEGIN:VEVENT
SUMMARY:Parcours. Führung: Bildhauereiateliers
DTSTART;TZID=Europe/Vienna:20240621T150000
DTSTAMP:20260425T212603Z
UID:9355ff8003814b7fabfc0c19739540bb@www.akbild.ac.at
CATEGORIES:Vorträge / Veranstaltungen
CREATED:20240528T072254Z
DESCRIPTION:Die Kunstauskünfte der Exhibit-Ausstellungsräume führen dur
 ch die Standorte und informieren über ausgewählte Werke der diesjährige
 n Diplomand_innen.
LAST-MODIFIED:20240802T102251Z
URL:https://www.akbild.ac.at/de/museum-und-ausstellungen/parcours-abschlus
 sarbeiten/parcours-2024/parcours-fuehrung-bildhauereiateliers
END:VEVENT
BEGIN:VTIMEZONE
TZID:Europe/Vienna
X-LIC-LOCATION:Europe/Vienna
BEGIN:DAYLIGHT
DTSTART:20240331T030000
TZNAME:CEST
TZOFFSETFROM:+0100
TZOFFSETTO:+0200
END:DAYLIGHT
END:VTIMEZONE
END:VCALENDAR
