BEGIN:VCALENDAR
VERSION:2.0
PRODID:-//Plone.org//NONSGML plone.app.event//EN
X-WR-TIMEZONE:Europe/Vienna
BEGIN:VEVENT
SUMMARY:ICH FORM. Ausstellung der Masterprojekte aus Gestaltung im Kontext
  2025.
DTSTART;TZID=Europe/Vienna:20250617T191500
DTEND;TZID=Europe/Vienna:20250629T180000
DTSTAMP:20260423T114109Z
UID:cbdb35f1408b4e94a5c8b5a9c545c76e@www.akbild.ac.at
CATEGORIES:Ausstellungen
CREATED:20250603T080614Z
DESCRIPTION:Ausstellung der Masterprojekte aus Gestaltung im Kontext\, Ins
 titut für das künstlerische Lehramt.
LAST-MODIFIED:20250620T112952Z
URL:https://www.akbild.ac.at/de/museum-und-ausstellungen/parcours-abschlus
 sarbeiten/parcours-abschlussarbeiten-2025/ich-form
END:VEVENT
BEGIN:VTIMEZONE
TZID:Europe/Vienna
X-LIC-LOCATION:Europe/Vienna
BEGIN:DAYLIGHT
DTSTART:20250330T030000
TZNAME:CEST
TZOFFSETFROM:+0100
TZOFFSETTO:+0200
END:DAYLIGHT
END:VTIMEZONE
END:VCALENDAR
