BEGIN:VCALENDAR
VERSION:2.0
PRODID:-//Plone.org//NONSGML plone.app.event//EN
X-WR-TIMEZONE:Europe/Vienna
BEGIN:VEVENT
SUMMARY:Luftlinie 5 Zentimeter. Ausstellung der Masterprojekte aus Kunst u
 nd Bildung 2025.
DTSTART;TZID=Europe/Vienna:20250617T193000
DTEND;TZID=Europe/Vienna:20250629T180000
DTSTAMP:20260423T114340Z
UID:99985518cb754067b79bb0e45d4887e1@www.akbild.ac.at
CATEGORIES:Ausstellungen
CREATED:20250612T065435Z
DESCRIPTION:Masterprojekte aus Kunst und Bildung I mit Isa Rosenberger\, I
 nstitut für das künstlerische Lehramt.
LAST-MODIFIED:20250612T135428Z
URL:https://www.akbild.ac.at/de/museum-und-ausstellungen/parcours-abschlus
 sarbeiten/parcours-abschlussarbeiten-2025/luftlinie-5-zentimeter
END:VEVENT
BEGIN:VTIMEZONE
TZID:Europe/Vienna
X-LIC-LOCATION:Europe/Vienna
BEGIN:DAYLIGHT
DTSTART:20250330T030000
TZNAME:CEST
TZOFFSETFROM:+0100
TZOFFSETTO:+0200
END:DAYLIGHT
END:VTIMEZONE
END:VCALENDAR
