BEGIN:VCALENDAR
VERSION:2.0
PRODID:-//Plone.org//NONSGML plone.app.event//EN
X-WR-TIMEZONE:Europe/Vienna
BEGIN:VEVENT
SUMMARY:Parcours 2025 am Schillerplatz
DTSTART;TZID=Europe/Vienna:20250617T170000
DTEND;TZID=Europe/Vienna:20250629T200000
DTSTAMP:20260423T114303Z
UID:a256c3df1e83457ba9583957aa20a649@www.akbild.ac.at
CATEGORIES:Vorträge / Veranstaltungen
CREATED:20250605T141346Z
DESCRIPTION:Am Schillerplatz finden Sie die Abschlusspräsentationen des I
 nstituts für bildende Kunst (IBK) und des Instituts für Kunst und Archit
 ektur (IKA).
LAST-MODIFIED:20250620T085219Z
URL:https://www.akbild.ac.at/de/museum-und-ausstellungen/parcours-abschlus
 sarbeiten/parcours-abschlussarbeiten-2025/parcours-2025-am-schillerplatz
END:VEVENT
BEGIN:VTIMEZONE
TZID:Europe/Vienna
X-LIC-LOCATION:Europe/Vienna
BEGIN:DAYLIGHT
DTSTART:20250330T030000
TZNAME:CEST
TZOFFSETFROM:+0100
TZOFFSETTO:+0200
END:DAYLIGHT
END:VTIMEZONE
END:VCALENDAR
