BEGIN:VCALENDAR
VERSION:2.0
PRODID:-//Plone.org//NONSGML plone.app.event//EN
X-WR-TIMEZONE:Europe/Vienna
BEGIN:VEVENT
SUMMARY:Parcours 2025 Exhibit Galerie und Exhibit Studio
DTSTART;TZID=Europe/Vienna:20250617T180000
DTEND;TZID=Europe/Vienna:20250629T200000
DTSTAMP:20260423T114447Z
UID:976a7f07f2574bde9cf24f0ac85bbf31@www.akbild.ac.at
CATEGORIES:Ausstellungen
CREATED:20250604T134129Z
DESCRIPTION:In der Exhibit Galerie und im Exhibit Studio finden Sie Abschl
 usspräsentationen des Instituts für bildende Kunst (IBK).
LAST-MODIFIED:20250620T121017Z
URL:https://www.akbild.ac.at/de/museum-und-ausstellungen/parcours-abschlus
 sarbeiten/parcours-abschlussarbeiten-2025/parcours-2025-exhibit-galerie-un
 d-exhibit-studio
END:VEVENT
BEGIN:VTIMEZONE
TZID:Europe/Vienna
X-LIC-LOCATION:Europe/Vienna
BEGIN:DAYLIGHT
DTSTART:20250330T030000
TZNAME:CEST
TZOFFSETFROM:+0100
TZOFFSETTO:+0200
END:DAYLIGHT
END:VTIMEZONE
END:VCALENDAR
