BEGIN:VCALENDAR
VERSION:2.0
PRODID:-//Plone.org//NONSGML plone.app.event//EN
X-WR-TIMEZONE:Europe/Vienna
BEGIN:VEVENT
SUMMARY:Parcours 2025 im Atelierhaus
DTSTART;TZID=Europe/Vienna:20250617T180000
DTEND;TZID=Europe/Vienna:20250629T200000
DTSTAMP:20260423T114339Z
UID:51b2eb6500914beaac7a90b35d36da81@www.akbild.ac.at
CATEGORIES:Ausstellungen
CREATED:20250606T114911Z
DESCRIPTION:Im Atelierhaus der Akademie der bildenden Künste Wien finden 
 Sie Abschlusspräsentationen des Instituts für bildende Kunst (IBK)des In
 stituts für das künstlerische Lehramt (IKL)\, und des Instituts für Kun
 st und Architektur (IKA).
LAST-MODIFIED:20250620T095140Z
URL:https://www.akbild.ac.at/de/museum-und-ausstellungen/parcours-abschlus
 sarbeiten/parcours-abschlussarbeiten-2025/parcours-2025-im-atelierhaus
END:VEVENT
BEGIN:VTIMEZONE
TZID:Europe/Vienna
X-LIC-LOCATION:Europe/Vienna
BEGIN:DAYLIGHT
DTSTART:20250330T030000
TZNAME:CEST
TZOFFSETFROM:+0100
TZOFFSETTO:+0200
END:DAYLIGHT
END:VTIMEZONE
END:VCALENDAR
