BEGIN:VCALENDAR
VERSION:2.0
PRODID:-//Plone.org//NONSGML plone.app.event//EN
X-WR-TIMEZONE:Europe/Vienna
BEGIN:VEVENT
SUMMARY:Parcours 2025 in den Bildhauereiateliers
DTSTART;TZID=Europe/Vienna:20250617T180000
DTEND;TZID=Europe/Vienna:20250629T180000
DTSTAMP:20260423T114447Z
UID:799acb84bd6f4b40932dc097c104eca2@www.akbild.ac.at
CATEGORIES:Ausstellungen
CREATED:20250606T120101Z
DESCRIPTION:In den Bildhauereiateliers finden Sie Abschlusspräsentationen
  des Instituts für bildende Kunst (IBK).
LAST-MODIFIED:20250620T115404Z
URL:https://www.akbild.ac.at/de/museum-und-ausstellungen/parcours-abschlus
 sarbeiten/parcours-abschlussarbeiten-2025/parcours-2025-in-den-bildhauerei
 ateliers
END:VEVENT
BEGIN:VTIMEZONE
TZID:Europe/Vienna
X-LIC-LOCATION:Europe/Vienna
BEGIN:DAYLIGHT
DTSTART:20250330T030000
TZNAME:CEST
TZOFFSETFROM:+0100
TZOFFSETTO:+0200
END:DAYLIGHT
END:VTIMEZONE
END:VCALENDAR
