BEGIN:VCALENDAR
VERSION:2.0
PRODID:-//Plone.org//NONSGML plone.app.event//EN
X-WR-TIMEZONE:Europe/Vienna
BEGIN:VEVENT
SUMMARY:Parcours. Eröffnung
DTSTART;TZID=Europe/Vienna:20250617T160000
DTSTAMP:20260423T114330Z
UID:91bf17d8d9be4dad9c1c8d3b14ea6b97@www.akbild.ac.at
CATEGORIES:Vorträge / Veranstaltungen
CREATED:20250526T073215Z
DESCRIPTION:Die Akademie der bildenden Künste Wien lädt zur Eröffnung d
 es Parcours 2025 am 17. Juni um 16 h im Innenhof am Schillerplatz.Öffnung
 szeiten am 17.6.2025: 16–21 h
LAST-MODIFIED:20250620T072051Z
URL:https://www.akbild.ac.at/de/museum-und-ausstellungen/parcours-abschlus
 sarbeiten/parcours-abschlussarbeiten-2025/parcours-eroeffnung
END:VEVENT
BEGIN:VTIMEZONE
TZID:Europe/Vienna
X-LIC-LOCATION:Europe/Vienna
BEGIN:DAYLIGHT
DTSTART:20250330T030000
TZNAME:CEST
TZOFFSETFROM:+0100
TZOFFSETTO:+0200
END:DAYLIGHT
END:VTIMEZONE
END:VCALENDAR
