BEGIN:VCALENDAR
VERSION:2.0
PRODID:-//Plone.org//NONSGML plone.app.event//EN
X-WR-TIMEZONE:Europe/Vienna
BEGIN:VEVENT
SUMMARY:Parcours. Führung: Atelierhaus und Exhibit Eschenbachgasse
DTSTART;TZID=Europe/Vienna:20250621T150000
DTSTAMP:20260423T114425Z
UID:0efa22310a2246dcaa2a4b313acdfc96@www.akbild.ac.at
CATEGORIES:Vorträge / Veranstaltungen
CREATED:20240527T142256Z
DESCRIPTION:Die Kunstauskünfte der Exhibit-Ausstellungsräume führen dur
 ch die Standorte und informieren über ausgewählte Werke der diesjährige
 n Diplomand_innen.
LAST-MODIFIED:20250620T122300Z
URL:https://www.akbild.ac.at/de/museum-und-ausstellungen/parcours-abschlus
 sarbeiten/parcours-abschlussarbeiten-2025/parcours-fuehrung-atelierhaus
END:VEVENT
BEGIN:VTIMEZONE
TZID:Europe/Vienna
X-LIC-LOCATION:Europe/Vienna
BEGIN:DAYLIGHT
DTSTART:20250330T030000
TZNAME:CEST
TZOFFSETFROM:+0100
TZOFFSETTO:+0200
END:DAYLIGHT
END:VTIMEZONE
END:VCALENDAR
