BEGIN:VCALENDAR
VERSION:2.0
PRODID:-//Plone.org//NONSGML plone.app.event//EN
X-WR-TIMEZONE:Europe/Vienna
BEGIN:VEVENT
SUMMARY:Parcours. Führung: Exhibit Galerie
DTSTART;TZID=Europe/Vienna:20250624T150000
DTSTAMP:20260423T114454Z
UID:d4f6056ea7e0441b9fd89726974aa692@www.akbild.ac.at
CATEGORIES:Vorträge / Veranstaltungen
CREATED:20250512T125606Z
DESCRIPTION:Die Kunstauskünfte der Exhibit-Ausstellungsräume führen dur
 ch die Standorte und informieren über ausgewählte Werke der diesjährige
 n Diplomand_innen.
LAST-MODIFIED:20250620T121425Z
URL:https://www.akbild.ac.at/de/museum-und-ausstellungen/parcours-abschlus
 sarbeiten/parcours-abschlussarbeiten-2025/parcours-fuehrung-exhibit-galeri
 e
END:VEVENT
BEGIN:VTIMEZONE
TZID:Europe/Vienna
X-LIC-LOCATION:Europe/Vienna
BEGIN:DAYLIGHT
DTSTART:20250330T030000
TZNAME:CEST
TZOFFSETFROM:+0100
TZOFFSETTO:+0200
END:DAYLIGHT
END:VTIMEZONE
END:VCALENDAR
