BEGIN:VCALENDAR
VERSION:2.0
PRODID:-//Plone.org//NONSGML plone.app.event//EN
X-WR-TIMEZONE:Europe/Vienna
BEGIN:VEVENT
SUMMARY:Parcours: Master Walk (Gestaltung im Kontext)
DTSTART;TZID=Europe/Vienna:20250617T191500
DTSTAMP:20260423T114130Z
UID:e86239ac926941c78722dff77b33af13@www.akbild.ac.at
CATEGORIES:Vorträge / Veranstaltungen
CREATED:20250612T063537Z
DESCRIPTION:Während des Master Walks präsentieren die Studierenden der M
 asterprojekte (Institut für das künstlerische Lehramt) ihre Arbeiten in 
 der Ausstellung.
LAST-MODIFIED:20250620T120218Z
URL:https://www.akbild.ac.at/de/museum-und-ausstellungen/parcours-abschlus
 sarbeiten/parcours-abschlussarbeiten-2025/parcours-master-walk-gestaltung-
 im-kontext
END:VEVENT
BEGIN:VTIMEZONE
TZID:Europe/Vienna
X-LIC-LOCATION:Europe/Vienna
BEGIN:DAYLIGHT
DTSTART:20250330T030000
TZNAME:CEST
TZOFFSETFROM:+0100
TZOFFSETTO:+0200
END:DAYLIGHT
END:VTIMEZONE
END:VCALENDAR
