BEGIN:VCALENDAR
VERSION:2.0
PRODID:-//Plone.org//NONSGML plone.app.event//EN
X-WR-TIMEZONE:Europe/Vienna
BEGIN:VEVENT
SUMMARY:Elke Krystufek ab WS 05/06 Professorin für "Kontextuelle Malerei"
DTSTART;TZID=Europe/Vienna:20050921T142813
DTEND;TZID=Europe/Vienna:20060217T110757
DTSTAMP:20260423T161418Z
UID:51a261f8c0c8e4d61a78e5869244d5cf@www.akbild.ac.at
CREATED:20220312T003532Z
LAST-MODIFIED:20240802T102811Z
URL:https://www.akbild.ac.at/de/news/2005/event_1110
END:VEVENT
BEGIN:VTIMEZONE
TZID:Europe/Vienna
X-LIC-LOCATION:Europe/Vienna
BEGIN:DAYLIGHT
DTSTART:20050327T030000
TZNAME:CEST
TZOFFSETFROM:+0100
TZOFFSETTO:+0200
END:DAYLIGHT
BEGIN:STANDARD
DTSTART:20051030T020000
TZNAME:CET
TZOFFSETFROM:+0200
TZOFFSETTO:+0100
END:STANDARD
END:VTIMEZONE
END:VCALENDAR
