BEGIN:VCALENDAR
VERSION:2.0
PRODID:-//Plone.org//NONSGML plone.app.event//EN
X-WR-TIMEZONE:Europe/Vienna
BEGIN:VEVENT
SUMMARY:FWF-Informationsveranstaltung für ForscherInnen
DTSTART;TZID=Europe/Vienna:20051013T123614
DTEND;TZID=Europe/Vienna:20060111T121537
DTSTAMP:20260424T030220Z
UID:72ddfbe3e05e68ecba11cbc6ab094a31@www.akbild.ac.at
CREATED:20220312T003531Z
DESCRIPTION:25. Oktober 2005\, 10.00 - 13.00 h\n \n Sitzungssaal der Akade
 mie der bildenden Künste Wien\n \n Schillerplatz 3\, 1010 Wien
LAST-MODIFIED:20240802T102811Z
URL:https://www.akbild.ac.at/de/news/2005/event_1125
END:VEVENT
BEGIN:VTIMEZONE
TZID:Europe/Vienna
X-LIC-LOCATION:Europe/Vienna
BEGIN:DAYLIGHT
DTSTART:20050327T030000
TZNAME:CEST
TZOFFSETFROM:+0100
TZOFFSETTO:+0200
END:DAYLIGHT
BEGIN:STANDARD
DTSTART:20051030T020000
TZNAME:CET
TZOFFSETFROM:+0200
TZOFFSETTO:+0100
END:STANDARD
END:VTIMEZONE
END:VCALENDAR
