BEGIN:VCALENDAR
VERSION:2.0
PRODID:-//Plone.org//NONSGML plone.app.event//EN
X-WR-TIMEZONE:Europe/Vienna
BEGIN:VEVENT
SUMMARY:Otto Mauer Preis 2005 für Jun Yang
DTSTART;TZID=Europe/Vienna:20051104T144944
DTEND;TZID=Europe/Vienna:20060217T110915
DTSTAMP:20260424T020028Z
UID:7fb1fcdf046ab8341eab7253053e9405@www.akbild.ac.at
CREATED:20220312T003535Z
LAST-MODIFIED:20240802T102811Z
URL:https://www.akbild.ac.at/de/news/2005/event_1140
END:VEVENT
BEGIN:VTIMEZONE
TZID:Europe/Vienna
X-LIC-LOCATION:Europe/Vienna
BEGIN:STANDARD
DTSTART:20051030T020000
TZNAME:CET
TZOFFSETFROM:+0200
TZOFFSETTO:+0100
END:STANDARD
END:VTIMEZONE
END:VCALENDAR
