BEGIN:VCALENDAR
VERSION:2.0
PRODID:-//Plone.org//NONSGML plone.app.event//EN
X-WR-TIMEZONE:Europe/Vienna
BEGIN:VEVENT
SUMMARY:KICKOFF
DTSTART;TZID=Europe/Vienna:20060222T155157
DTEND;TZID=Europe/Vienna:20060612T112359
DTSTAMP:20260424T090359Z
UID:5b6b38cbc56943633a77e662bbbb4bf0@www.akbild.ac.at
CREATED:20220312T003544Z
DESCRIPTION:Semesterauftakt 27.02.-13.03.2006\n \n Institut für Kunst und
  Architektur
LAST-MODIFIED:20240802T102808Z
URL:https://www.akbild.ac.at/de/news/2006/event_1229
END:VEVENT
BEGIN:VTIMEZONE
TZID:Europe/Vienna
X-LIC-LOCATION:Europe/Vienna
BEGIN:STANDARD
DTSTART:20051030T020000
TZNAME:CET
TZOFFSETFROM:+0200
TZOFFSETTO:+0100
END:STANDARD
BEGIN:DAYLIGHT
DTSTART:20060326T030000
TZNAME:CEST
TZOFFSETFROM:+0100
TZOFFSETTO:+0200
END:DAYLIGHT
END:VTIMEZONE
END:VCALENDAR
