BEGIN:VCALENDAR
VERSION:2.0
PRODID:-//Plone.org//NONSGML plone.app.event//EN
X-WR-TIMEZONE:Europe/Vienna
BEGIN:VEVENT
SUMMARY:Bundesminister Johannes Hahn eröffnete die neu errichteten Einbau
 ten im Atelierhaus der Akademie der bildenden Künste Wien
DTSTART;VALUE=DATE:20080514
DTEND;VALUE=DATE:20080515
DTSTAMP:20260423T113948Z
UID:8344d6dcbf411de8e658ef6dc92a874b@www.akbild.ac.at
CREATED:20220312T003822Z
LAST-MODIFIED:20240802T102804Z
URL:https://www.akbild.ac.at/de/news/2008/akbild_event.2008-04-25.19536338
 35
END:VEVENT
END:VCALENDAR
