BEGIN:VCALENDAR
VERSION:2.0
PRODID:-//Plone.org//NONSGML plone.app.event//EN
X-WR-TIMEZONE:Europe/Vienna
BEGIN:VEVENT
SUMMARY:Die Akademie auf der BeSt 2009
DTSTART;VALUE=DATE:20090305
DTEND;VALUE=DATE:20090309
DTSTAMP:20260423T201836Z
UID:74a7db790f283980b59289200d47badc@www.akbild.ac.at
CREATED:20220312T003931Z
LAST-MODIFIED:20240802T102804Z
URL:https://www.akbild.ac.at/de/news/2009/copy_of_akbild_event.2008-02-26.
 3242478875
END:VEVENT
END:VCALENDAR
