BEGIN:VCALENDAR
VERSION:2.0
PRODID:-//Plone.org//NONSGML plone.app.event//EN
X-WR-TIMEZONE:Europe/Vienna
BEGIN:VEVENT
SUMMARY:H 13 Niederösterreich Preis für Performance geht an Jakob Lena K
 nebl
DTSTART;TZID=Europe/Vienna:20100909T190000
DTSTAMP:20260425T024021Z
UID:fb9d54cb399f56913ecd9f7da104acec@www.akbild.ac.at
CREATED:20220312T004056Z
DESCRIPTION:Zur Performance spricht Sandro Droschl\, Preisverleihung durch
  Christiane Krejs
LAST-MODIFIED:20240802T102801Z
URL:https://www.akbild.ac.at/de/news/2010/akbild_event.2010-09-06.57501251
 90
END:VEVENT
BEGIN:VTIMEZONE
TZID:Europe/Vienna
X-LIC-LOCATION:Europe/Vienna
BEGIN:DAYLIGHT
DTSTART:20100328T030000
TZNAME:CEST
TZOFFSETFROM:+0100
TZOFFSETTO:+0200
END:DAYLIGHT
END:VTIMEZONE
END:VCALENDAR
