BEGIN:VCALENDAR
VERSION:2.0
PRODID:-//Plone.org//NONSGML plone.app.event//EN
X-WR-TIMEZONE:Europe/Vienna
BEGIN:VEVENT
SUMMARY:Paul DeFlorian | The Rainbow Valley Show
DTSTART;TZID=Europe/Vienna:20111114T140000
DTSTAMP:20260424T054434Z
UID:27247b595710c273e4bfc0245ae49634@www.akbild.ac.at
CREATED:20220312T004232Z
DESCRIPTION:Präsentation auf der Feststiege des Bundesministeriums für W
 issenschaft und Forschung im Rahmen der neuen Reihe „Junge Kunst auf der
  Feststiege“\n \n Eröffnung mit Karlheinz Töchterle\, Bundesminister f
 ür Wissenschaft und Forschung\; Elisabeth Freismuth\, Sektionschefin Bund
 esministerium Wissenschaft und Forschung\; Eva Blimlinger\, Rektorin der A
 kademie der bildenden Künste Wien\; Andrea B. Braidt\, Vizerektorin für 
 Kunst | Forschung der Akademie der bildenden Künste Wien.\n \n In Anwesen
 heit des Künstlers.
LAST-MODIFIED:20240802T102801Z
URL:https://www.akbild.ac.at/de/news/2011/akbild_event.2011-11-10.15991653
 15
END:VEVENT
BEGIN:VTIMEZONE
TZID:Europe/Vienna
X-LIC-LOCATION:Europe/Vienna
BEGIN:STANDARD
DTSTART:20111030T020000
TZNAME:CET
TZOFFSETFROM:+0200
TZOFFSETTO:+0100
END:STANDARD
END:VTIMEZONE
END:VCALENDAR
