BEGIN:VCALENDAR
VERSION:2.0
PRODID:-//Plone.org//NONSGML plone.app.event//EN
X-WR-TIMEZONE:Europe/Vienna
BEGIN:VEVENT
SUMMARY:Zulassungsprüfung Studienjahr 2012/2013 für die Studienrichtung 
 Konservierung und Restaurierung
DTSTART;VALUE=DATE:20120130
DTEND;VALUE=DATE:20120208
DTSTAMP:20260424T030828Z
UID:fbbc6f3b5776032c7b72876f88df32ff@www.akbild.ac.at
CREATED:20220312T004258Z
LAST-MODIFIED:20240802T102757Z
URL:https://www.akbild.ac.at/de/news/2012/akbild_event.2012-01-30.24564445
 47
END:VEVENT
END:VCALENDAR
