BEGIN:VCALENDAR
VERSION:2.0
PRODID:-//Plone.org//NONSGML plone.app.event//EN
X-WR-TIMEZONE:Europe/Vienna
BEGIN:VEVENT
SUMMARY:Johannes Gierlinger erhält Ö1-Talentestipendium 2015
DTSTART;TZID=Europe/Vienna:20151201T190000
DTSTAMP:20260423T083300Z
UID:07af802c019de5e52c98166e36f1febb@www.akbild.ac.at
CREATED:20220312T004935Z
LAST-MODIFIED:20240802T102747Z
URL:https://www.akbild.ac.at/de/news/2015/johannes-gierlinger-erhaelt-oe1-
 talentestipendium-2015/SubEvent
END:VEVENT
BEGIN:VTIMEZONE
TZID:Europe/Vienna
X-LIC-LOCATION:Europe/Vienna
BEGIN:STANDARD
DTSTART:20151025T020000
TZNAME:CET
TZOFFSETFROM:+0200
TZOFFSETTO:+0100
END:STANDARD
END:VTIMEZONE
END:VCALENDAR
