BEGIN:VCALENDAR
VERSION:2.0
PRODID:-//Plone.org//NONSGML plone.app.event//EN
X-WR-TIMEZONE:Europe/Vienna
BEGIN:VEVENT
SUMMARY:Kooperaton: PRO: PROSA / Akademie der bildenden Künste Wien / Kun
 straum NOE
DTSTART;TZID=Europe/Vienna:20150618T190000
DTSTAMP:20260423T101119Z
UID:c98eecfc0c938358c8fe58d7380cc1db@www.akbild.ac.at
CREATED:20220312T004905Z
LAST-MODIFIED:20240802T102747Z
URL:https://www.akbild.ac.at/de/news/2015/kooperaton-pro-prosa-akademie-de
 r-bildenden-ku308nste-wien-kunstraum-noe
END:VEVENT
BEGIN:VTIMEZONE
TZID:Europe/Vienna
X-LIC-LOCATION:Europe/Vienna
BEGIN:DAYLIGHT
DTSTART:20150329T030000
TZNAME:CEST
TZOFFSETFROM:+0100
TZOFFSETTO:+0200
END:DAYLIGHT
END:VTIMEZONE
END:VCALENDAR
