BEGIN:VCALENDAR
VERSION:2.0
PRODID:-//Plone.org//NONSGML plone.app.event//EN
X-WR-TIMEZONE:Europe/Vienna
BEGIN:VEVENT
SUMMARY:Zulassungsprüfung Studienjahr 2015/2016 für die Studienrichtung 
 Konservierung und Restaurierung
DTSTART;VALUE=DATE:20150201
DTEND;VALUE=DATE:20150212
DTSTAMP:20260424T031212Z
UID:6a736a508c2cefd5e0de1424a35d467c@www.akbild.ac.at
CREATED:20220312T004805Z
DESCRIPTION:ACHTUNG: ANMELDEFRIST VERLÄNGERT BIS 13.02.2015\, 12.00 h!
LAST-MODIFIED:20240802T102747Z
URL:https://www.akbild.ac.at/de/news/2015/zulassungspruefung-studienjahr-2
 015-2016-fuer-die-studienrichtung-konservierung-und-restaurierung
END:VEVENT
END:VCALENDAR
