BEGIN:VCALENDAR
VERSION:2.0
PRODID:-//Plone.org//NONSGML plone.app.event//EN
X-WR-TIMEZONE:Europe/Vienna
BEGIN:VEVENT
SUMMARY:Online-Anmeldung zur Zulassungsprüfung Bildende Kunst
DTSTART;TZID=Europe/Vienna:20160301T100000
DTEND;TZID=Europe/Vienna:20160330T160000
DTSTAMP:20260424T031047Z
UID:dd016e2b1ca71e63ac00b7a281a0e966@www.akbild.ac.at
CREATED:20220312T005104Z
LAST-MODIFIED:20240802T102741Z
URL:https://www.akbild.ac.at/de/news/2016/copy2_of_online-anmeldung-zur-zu
 lassungspruefung-bildende-kunst
END:VEVENT
BEGIN:VTIMEZONE
TZID:Europe/Vienna
X-LIC-LOCATION:Europe/Vienna
BEGIN:STANDARD
DTSTART:20151025T020000
TZNAME:CET
TZOFFSETFROM:+0200
TZOFFSETTO:+0100
END:STANDARD
BEGIN:DAYLIGHT
DTSTART:20160327T030000
TZNAME:CEST
TZOFFSETFROM:+0100
TZOFFSETTO:+0200
END:DAYLIGHT
END:VTIMEZONE
END:VCALENDAR
