BEGIN:VCALENDAR
VERSION:2.0
PRODID:-//Plone.org//NONSGML plone.app.event//EN
X-WR-TIMEZONE:Europe/Vienna
BEGIN:VEVENT
SUMMARY:Zulassungsprüfung Studienjahr 2016/2017 für die Studienrichtung 
 Konservierung und Restaurierung
DTSTART;VALUE=DATE:20160201
DTEND;VALUE=DATE:20160211
DTSTAMP:20260424T032109Z
UID:46f4eb5c621adeeb4e96bb9cf7c7bb20@www.akbild.ac.at
CREATED:20220312T005107Z
LAST-MODIFIED:20240802T102741Z
URL:https://www.akbild.ac.at/de/news/2016/copy_of_zulassungspruefung-studi
 enjahr-2015-2016-fuer-die-studienrichtung-konservierung-und-restaurierung
END:VEVENT
END:VCALENDAR
