BEGIN:VCALENDAR
VERSION:2.0
PRODID:-//Plone.org//NONSGML plone.app.event//EN
X-WR-TIMEZONE:Europe/Vienna
BEGIN:VEVENT
SUMMARY:Eröffnung des Cathrin Pichler Archivs für Kunst und Wissenschaft
 en
DTSTART;TZID=Europe/Vienna:20160121T180000
DTSTAMP:20260423T211506Z
UID:bb5e185033b86cdd4ad7eabe3e4aa2c6@www.akbild.ac.at
CREATED:20220312T005111Z
LAST-MODIFIED:20240802T102741Z
URL:https://www.akbild.ac.at/de/news/2016/eroeffnung-des-cathrin-pichler-a
 rchivs-fuer-kunst-und-wissenschaften
END:VEVENT
BEGIN:VTIMEZONE
TZID:Europe/Vienna
X-LIC-LOCATION:Europe/Vienna
BEGIN:STANDARD
DTSTART:20151025T020000
TZNAME:CET
TZOFFSETFROM:+0200
TZOFFSETTO:+0100
END:STANDARD
END:VTIMEZONE
END:VCALENDAR
