BEGIN:VCALENDAR
VERSION:2.0
PRODID:-//Plone.org//NONSGML plone.app.event//EN
X-WR-TIMEZONE:Europe/Vienna
BEGIN:VEVENT
SUMMARY:Mappenabgabe zur Zulassungsprüfung Bühnengestaltung
DTSTART;TZID=Europe/Vienna:20160606T130000
DTEND;TZID=Europe/Vienna:20160606T150000
DTSTAMP:20260424T013001Z
UID:bb04e65b4e3960412c5e3e1867bae535@www.akbild.ac.at
CREATED:20220312T005222Z
LAST-MODIFIED:20240802T102744Z
URL:https://www.akbild.ac.at/de/news/2016/mappenabgabe-zur-zulassungspruef
 ung-buehnengestaltung
END:VEVENT
BEGIN:VTIMEZONE
TZID:Europe/Vienna
X-LIC-LOCATION:Europe/Vienna
BEGIN:DAYLIGHT
DTSTART:20160327T030000
TZNAME:CEST
TZOFFSETFROM:+0100
TZOFFSETTO:+0200
END:DAYLIGHT
END:VTIMEZONE
END:VCALENDAR
