BEGIN:VCALENDAR
VERSION:2.0
PRODID:-//Plone.org//NONSGML plone.app.event//EN
X-WR-TIMEZONE:Europe/Vienna
BEGIN:VEVENT
SUMMARY:Zulassungsprüfung Studienjahr 2017/2018 für die Studienrichtung 
 Konservierung und Restaurierung
DTSTART;VALUE=DATE:20170130
DTEND;VALUE=DATE:20170209
DTSTAMP:20260424T031103Z
UID:b870d42a708480354de3ad1b1b73682c@www.akbild.ac.at
CREATED:20220312T005518Z
LAST-MODIFIED:20240802T102737Z
URL:https://www.akbild.ac.at/de/news/2017/copy2_of_zulassungspruefung-stud
 ienjahr-2015-2016-fuer-die-studienrichtung-konservierung-und-restaurierung
END:VEVENT
END:VCALENDAR
