BEGIN:VCALENDAR
VERSION:2.0
PRODID:-//Plone.org//NONSGML plone.app.event//EN
X-WR-TIMEZONE:Europe/Vienna
BEGIN:VEVENT
SUMMARY:Online-Anmeldung zur Zulassungsprüfung Bildende Kunst
DTSTART;TZID=Europe/Vienna:20170116T100000
DTEND;TZID=Europe/Vienna:20170203T160000
DTSTAMP:20260424T044828Z
UID:b64e73434d366d529d00dcfd88405117@www.akbild.ac.at
CREATED:20220312T005511Z
LAST-MODIFIED:20240802T102737Z
URL:https://www.akbild.ac.at/de/news/2017/copy3_of_online-anmeldung-zur-zu
 lassungspruefung-bildende-kunst
END:VEVENT
BEGIN:VTIMEZONE
TZID:Europe/Vienna
X-LIC-LOCATION:Europe/Vienna
BEGIN:STANDARD
DTSTART:20161030T020000
TZNAME:CET
TZOFFSETFROM:+0200
TZOFFSETTO:+0100
END:STANDARD
END:VTIMEZONE
END:VCALENDAR
