BEGIN:VCALENDAR
VERSION:2.0
PRODID:-//Plone.org//NONSGML plone.app.event//EN
X-WR-TIMEZONE:Europe/Vienna
BEGIN:VEVENT
SUMMARY:Hauntopia / What if | Ausstellung und Konferenz im Research Pavili
 on in Venedig
DTSTART;TZID=Europe/Vienna:20170907T190000
DTSTAMP:20260425T112519Z
UID:2a9cbaac63d5095d2f30f5ddf4c96712@www.akbild.ac.at
CREATED:20220312T005546Z
DESCRIPTION:In Zeiten ausgeprägter politischer Gewalt wird Geisterbeschw
 örung zur Methode künstlerischer Forschung:\n \n  Hauntopia / What If\n 
 \n beschwört Geister herauf\, die von der Gewalt der Vergangenheit erzäh
 len und das Potential einer anderen Zukunft in sich bergen. Das PhD-in-Pra
 ctice-Programm zeigt im Rahmen des von UniArts Helsinki initiierten Forsch
 ungspavillons\, der dieses Jahr zu dem Thema\n \n  The Utopia of Access\n 
 \n während der Biennale von Venedig stattfindet\, die von Anette Baldauf 
 und Renate Lorenz kuratierte Ausstellung über Kunst als Forschung.
LAST-MODIFIED:20240802T102737Z
URL:https://www.akbild.ac.at/de/news/2017/hauntopia-what-if-ausstellung-un
 d-konferenz-im-research-pavilion-in-venedig/SubEvent
END:VEVENT
BEGIN:VTIMEZONE
TZID:Europe/Vienna
X-LIC-LOCATION:Europe/Vienna
BEGIN:DAYLIGHT
DTSTART:20170326T030000
TZNAME:CEST
TZOFFSETFROM:+0100
TZOFFSETTO:+0200
END:DAYLIGHT
END:VTIMEZONE
END:VCALENDAR
