BEGIN:VCALENDAR
VERSION:2.0
PRODID:-//Plone.org//NONSGML plone.app.event//EN
X-WR-TIMEZONE:Europe/Vienna
BEGIN:VEVENT
SUMMARY:KinderuniKunst 2017 an der Akademie der bildenden Künste Wien
DTSTART;VALUE=DATE:20170703
DTEND;VALUE=DATE:20170708
DTSTAMP:20260420T074907Z
UID:56ec929ab15c7da88882485ca0cce025@www.akbild.ac.at
CREATED:20220312T005419Z
DESCRIPTION:Nähere Informationen und Anmeldung unter:\n \n \n  http://www
 .kinderunikunst.at\n \n \n  \n  Die Anmeldung beginnt am Dienstag\, 23. Ma
 i 2017 und endet am Dienstag\, 27. Juni 2017.
LAST-MODIFIED:20240802T102737Z
URL:https://www.akbild.ac.at/de/news/2017/kinderunikunst-2017-an-der-akade
 mie-der-bildenden-kunste-wien
END:VEVENT
END:VCALENDAR
