BEGIN:VCALENDAR
VERSION:2.0
PRODID:-//Plone.org//NONSGML plone.app.event//EN
X-WR-TIMEZONE:Europe/Vienna
BEGIN:VEVENT
SUMMARY:Kunsthalle Wien Akademie-Preisträgerin 2017 | Marlene Maier
DTSTART;TZID=Europe/Vienna:20171129T190000
DTSTAMP:20260420T074908Z
UID:e215f9a6688b748135871580a3f1b377@www.akbild.ac.at
CREATED:20220312T005649Z
DESCRIPTION:Der seit 2015 jährlich vergebene Preis ist eine Kooperation v
 on Kunsthalle  Wien\, Universität für angewandte Kunst Wien und Akademie
  der bildenden  Künste Wien und geht heuer an Marlene Maier (Akademie der
  bildenden Künste Wien) und Olena Newkryta (Universität für angewandte 
 Kunst Wien).
LAST-MODIFIED:20240802T102741Z
URL:https://www.akbild.ac.at/de/news/2017/kunsthalle-wien-akademie-preistr
 aegerin-2017-marlene-maier/SubEvent
END:VEVENT
BEGIN:VTIMEZONE
TZID:Europe/Vienna
X-LIC-LOCATION:Europe/Vienna
BEGIN:STANDARD
DTSTART:20171029T020000
TZNAME:CET
TZOFFSETFROM:+0200
TZOFFSETTO:+0100
END:STANDARD
END:VTIMEZONE
END:VCALENDAR
