BEGIN:VCALENDAR
VERSION:2.0
PRODID:-//Plone.org//NONSGML plone.app.event//EN
X-WR-TIMEZONE:Europe/Vienna
BEGIN:VEVENT
SUMMARY:Akademie der bildenden Künste Wien auf der Vienna Art Week 2017
DTSTART;TZID=Europe/Vienna:20171114T183000
DTSTAMP:20260424T120614Z
UID:af3cf0103d3b8471881d3c8ff5d7aa47@www.akbild.ac.at
CREATED:20220312T005639Z
DESCRIPTION:Programm der Akademie der bildenden Künste Wien im Rahmen der
 \n \n  \n   Vienna Art Week\n  \n \n 13.-19.11.2017
LAST-MODIFIED:20240802T102741Z
URL:https://www.akbild.ac.at/de/news/2017/vienna-artweek-2017-programm-aka
 demie-der-bildenden-kuenste-wien
END:VEVENT
BEGIN:VTIMEZONE
TZID:Europe/Vienna
X-LIC-LOCATION:Europe/Vienna
BEGIN:STANDARD
DTSTART:20171029T020000
TZNAME:CET
TZOFFSETFROM:+0200
TZOFFSETTO:+0100
END:STANDARD
END:VTIMEZONE
END:VCALENDAR
