BEGIN:VCALENDAR
VERSION:2.0
PRODID:-//Plone.org//NONSGML plone.app.event//EN
X-WR-TIMEZONE:Europe/Vienna
BEGIN:VEVENT
SUMMARY:Call for applications for PhD in Practice Program 2018
DTSTART;VALUE=DATE:20180115
DTEND;VALUE=DATE:20180306
DTSTAMP:20260423T113752Z
UID:1526f654026c67eb25bc1dc1eeee886c@www.akbild.ac.at
CREATED:20220312T005733Z
DESCRIPTION:Beginning of studies for new participants: October 1\, 2018
LAST-MODIFIED:20240802T102731Z
URL:https://www.akbild.ac.at/de/news/2018/call-for-applications-for-phd-in
 -practice-program-2018
END:VEVENT
END:VCALENDAR
