BEGIN:VCALENDAR
VERSION:2.0
PRODID:-//Plone.org//NONSGML plone.app.event//EN
X-WR-TIMEZONE:Europe/Vienna
BEGIN:VEVENT
SUMMARY:Online-Anmeldung zur Zulassungsprüfung Bildende Kunst
DTSTART;TZID=Europe/Vienna:20180305T100000
DTEND;TZID=Europe/Vienna:20180404T160000
DTSTAMP:20260424T031047Z
UID:10e6ac11a9b5f8a81209fd5bee689cb9@www.akbild.ac.at
CREATED:20220312T005753Z
LAST-MODIFIED:20240802T102731Z
URL:https://www.akbild.ac.at/de/news/2018/copy4_of_online-anmeldung-zur-zu
 lassungspruefung-bildende-kunst
END:VEVENT
BEGIN:VTIMEZONE
TZID:Europe/Vienna
X-LIC-LOCATION:Europe/Vienna
BEGIN:STANDARD
DTSTART:20171029T020000
TZNAME:CET
TZOFFSETFROM:+0200
TZOFFSETTO:+0100
END:STANDARD
BEGIN:DAYLIGHT
DTSTART:20180325T030000
TZNAME:CEST
TZOFFSETFROM:+0100
TZOFFSETTO:+0200
END:DAYLIGHT
END:VTIMEZONE
END:VCALENDAR
