BEGIN:VCALENDAR
VERSION:2.0
PRODID:-//Plone.org//NONSGML plone.app.event//EN
X-WR-TIMEZONE:Europe/Vienna
BEGIN:VEVENT
SUMMARY:Die Akademie auf der BeSt 2018
DTSTART;VALUE=DATE:20180301
DTEND;VALUE=DATE:20180305
DTSTAMP:20260423T201836Z
UID:36469403163634d5adbeae05e1c28fd7@www.akbild.ac.at
CREATED:20220312T005756Z
DESCRIPTION:Do-Sa\, 9.00-18.00 h\nSo\, 9.00-17.00 h\nEintritt frei
LAST-MODIFIED:20240802T102734Z
URL:https://www.akbild.ac.at/de/news/2018/copy6_of_akbild_event.2008-02-26
 .3242478875
END:VEVENT
END:VCALENDAR
