BEGIN:VCALENDAR
VERSION:2.0
PRODID:-//Plone.org//NONSGML plone.app.event//EN
X-WR-TIMEZONE:Europe/Vienna
BEGIN:VEVENT
SUMMARY:Zulassungsprüfung Bühnengestaltung Studienjahr 2018|2019
DTSTART;TZID=Europe/Vienna:20180305T110000
DTEND;TZID=Europe/Vienna:20180305T140000
DTSTAMP:20260424T031021Z
UID:888d421a81ac78405a8eb7e2db87d4e7@www.akbild.ac.at
CREATED:20220312T005738Z
DESCRIPTION:Zulassungsprüfung:\n \n \n Dienstag 06.03.2018\n \n Mittwoch 
 07.03.2018\n \n Donnerstag 08.03.2018
LAST-MODIFIED:20240802T102731Z
URL:https://www.akbild.ac.at/de/news/2018/zulassungspruefung-buehnengestal
 tung-studienjahr-2018-2019-1
END:VEVENT
BEGIN:VTIMEZONE
TZID:Europe/Vienna
X-LIC-LOCATION:Europe/Vienna
BEGIN:STANDARD
DTSTART:20171029T020000
TZNAME:CET
TZOFFSETFROM:+0200
TZOFFSETTO:+0100
END:STANDARD
END:VTIMEZONE
END:VCALENDAR
