BEGIN:VCALENDAR
VERSION:2.0
PRODID:-//Plone.org//NONSGML plone.app.event//EN
X-WR-TIMEZONE:Europe/Vienna
BEGIN:VEVENT
SUMMARY:Zulassungsprüfung Studienjahr 2018/2019 für die Studienrichtung 
 Konservierung und Restaurierung
DTSTART;VALUE=DATE:20180205
DTEND;VALUE=DATE:20180215
DTSTAMP:20260424T032135Z
UID:27120dd7743ac26b96887d409f7c88a4@www.akbild.ac.at
CREATED:20220312T005741Z
LAST-MODIFIED:20240802T102731Z
URL:https://www.akbild.ac.at/de/news/2018/zulassungspruefung-studienjahr-2
 018-2019-fuer-die-studienrichtung-konservierung-und-restaurierung
END:VEVENT
END:VCALENDAR
