BEGIN:VCALENDAR
VERSION:2.0
PRODID:-//Plone.org//NONSGML plone.app.event//EN
X-WR-TIMEZONE:Europe/Vienna
BEGIN:VEVENT
SUMMARY:Die Akademie auf der BeSt 2019
DTSTART;VALUE=DATE:20190307
DTEND;VALUE=DATE:20190311
DTSTAMP:20260423T201837Z
UID:d6cf0c6fd6e496601c8603789c7e37a2@www.akbild.ac.at
CREATED:20220312T010117Z
DESCRIPTION:Do-Sa\, 9.00-18.00 h So\, 9.00-17.00 h Eintritt frei
LAST-MODIFIED:20240802T102727Z
URL:https://www.akbild.ac.at/de/news/2019/die-akademie-auf-der-best-2019
END:VEVENT
END:VCALENDAR
