BEGIN:VCALENDAR
VERSION:2.0
PRODID:-//Plone.org//NONSGML plone.app.event//EN
X-WR-TIMEZONE:Europe/Vienna
BEGIN:VEVENT
SUMMARY:VIENNA ART WEEK 2019: Akademie Programm
DTSTART;VALUE=DATE:20191115
DTEND;VALUE=DATE:20191123
DTSTAMP:20260419T155726Z
UID:4be566844e1a4d64a783fbfad5f9288d@www.akbild.ac.at
CREATED:20220312T010455Z
DESCRIPTION:Programm der Akademie der bildenden Künste Wien im Rahmen der
 \n \n  \n   Vienna Art Week 2019
LAST-MODIFIED:20240802T102731Z
URL:https://www.akbild.ac.at/de/news/2019/die-akademie-auf-der-vienna-art-
 week-2019
END:VEVENT
END:VCALENDAR
