BEGIN:VCALENDAR
VERSION:2.0
PRODID:-//Plone.org//NONSGML plone.app.event//EN
X-WR-TIMEZONE:Europe/Vienna
BEGIN:VEVENT
SUMMARY:Diagonale-Preisträger_innen 2021 | Wir gratulieren The Golden Pix
 el Cooperative und Tobias Langer
DTSTART;VALUE=DATE:20210608
DTEND;VALUE=DATE:20210614
DTSTAMP:20260423T204946Z
UID:f451f6ab62c96f53bb66c4c551f88539@www.akbild.ac.at
CREATED:20220312T011330Z
DESCRIPTION:Die Akademie der bildenden Künste Wien freut sich\, dass auch
  dieses  Jahr    wieder zahlreiche Arbeiten von Lehrenden\, ehemaligen Leh
 renden\,     Studierenden\, sowie Alumni auf der Diagonale\, dem Festival 
 des     österreichischen Films\, in Graz vertreten sind und gratulieren d
 en Preisträger_innen.
LAST-MODIFIED:20240802T102716Z
URL:https://www.akbild.ac.at/de/news/2021/gratulation-an-diagonale-preistr
 aeger_innen-2021
END:VEVENT
END:VCALENDAR
