BEGIN:VCALENDAR
VERSION:2.0
PRODID:-//Plone.org//NONSGML plone.app.event//EN
X-WR-TIMEZONE:Europe/Vienna
BEGIN:VEVENT
SUMMARY:Vienna Art Week 2021: Akademie Programm
DTSTART;VALUE=DATE:20211112
DTEND;VALUE=DATE:20211120
DTSTAMP:20260423T113922Z
UID:c3ca9ed2e39794972ff1573c7658ff60@www.akbild.ac.at
CREATED:20220312T011604Z
DESCRIPTION:Programm der Akademie der bildenden Künste Wien im Rahmen der
 \n \n  \n   \n    Vienna Art Week 202\n   \n   1
LAST-MODIFIED:20240802T102720Z
URL:https://www.akbild.ac.at/de/news/2021/vienna-art-week-2021-akademie-pr
 ogramm
END:VEVENT
END:VCALENDAR
