BEGIN:VCALENDAR
VERSION:2.0
PRODID:-//Plone.org//NONSGML plone.app.event//EN
X-WR-TIMEZONE:Europe/Vienna
BEGIN:VEVENT
SUMMARY:ROAD*REGISTERS. Aufzeichnungen mobiler Lebenswelten
DTSTART;TZID=Europe/Vienna:20160929T100000
DTSTAMP:20260423T173401Z
UID:a1f0cdddc693d94f405cb86237d12b4d@www.akbild.ac.at
CREATED:20220312T001013Z
DESCRIPTION:Folgende Abbildungen sind unter www.akbild.ac.at/presse im Rah
 men einer   Berichterstattung über die            Akademie der bildenden 
 Künste  Wien  in Bezug auf das betreffende       Projekt    zum Download 
     freigegeben.
LAST-MODIFIED:20240802T102452Z
URL:https://www.akbild.ac.at/de/presse/2016/road-registers.-aufzeichnungen
 -mobiler-lebenswelten/SubEvent
END:VEVENT
BEGIN:VTIMEZONE
TZID:Europe/Vienna
X-LIC-LOCATION:Europe/Vienna
BEGIN:DAYLIGHT
DTSTART:20160327T030000
TZNAME:CEST
TZOFFSETFROM:+0100
TZOFFSETTO:+0200
END:DAYLIGHT
END:VTIMEZONE
END:VCALENDAR
