BEGIN:VCALENDAR
VERSION:2.0
PRODID:-//Plone.org//NONSGML plone.app.event//EN
X-WR-TIMEZONE:Europe/Vienna
BEGIN:VEVENT
SUMMARY:Traudel Pichler (1941 – 2002) - Einzelgängerin zwischen Figurat
 ion und Abstraktion
DTSTART;TZID=Europe/Vienna:20160719T190000
DTSTAMP:20260423T160516Z
UID:69b792dd82212aa1d78892a3febd756a@www.akbild.ac.at
CREATED:20220312T000937Z
DESCRIPTION:Folgende Abbildungen sind unter www.akbild.ac.at/presse im Rah
 men einer Berichterstattung über die            Akademie der bildenden K
 ünste Wien in Bezug auf das betreffende       Projekt    zum Download   f
 reigegeben.
LAST-MODIFIED:20240802T102452Z
URL:https://www.akbild.ac.at/de/presse/2016/traudel-pichler-1941-2013-2002
 -einzelgaengerin-zwischen-figuration-und-abstraktion/SubEvent
END:VEVENT
BEGIN:VTIMEZONE
TZID:Europe/Vienna
X-LIC-LOCATION:Europe/Vienna
BEGIN:DAYLIGHT
DTSTART:20160327T030000
TZNAME:CEST
TZOFFSETFROM:+0100
TZOFFSETTO:+0200
END:DAYLIGHT
END:VTIMEZONE
END:VCALENDAR
